BEGIN:VCALENDAR
VERSION:2.0
PRODID:-//Victory Baptist Church Ajah - ECPv6.13.2.1//NONSGML v1.0//EN
CALSCALE:GREGORIAN
METHOD:PUBLISH
X-WR-CALNAME:Victory Baptist Church Ajah
X-ORIGINAL-URL:https://www.vbcajah.org
X-WR-CALDESC:Events for Victory Baptist Church Ajah
REFRESH-INTERVAL;VALUE=DURATION:PT1H
X-Robots-Tag:noindex
X-PUBLISHED-TTL:PT1H
BEGIN:VTIMEZONE
TZID:Africa/Lagos
BEGIN:STANDARD
TZOFFSETFROM:+0100
TZOFFSETTO:+0100
TZNAME:WAT
DTSTART:20200101T000000
END:STANDARD
END:VTIMEZONE
BEGIN:VEVENT
DTSTART;TZID=Africa/Lagos:20240316T090000
DTEND;TZID=Africa/Lagos:20240316T170000
DTSTAMP:20260423T131024
CREATED:20240309T203201Z
LAST-MODIFIED:20240309T203651Z
UID:15382-1710579600-1710608400@www.vbcajah.org
SUMMARY:In God's Presence
DESCRIPTION:31st Bi-Annual Session of Shalom Baptist Association
URL:https://www.vbcajah.org/event/in-gods-presence/
LOCATION:New Dawn Baptist Church\, Prince Yomi Daramola Street\, Dideolu Estate\, Oniru\, Victoria Island\, Nigeria
END:VEVENT
BEGIN:VEVENT
DTSTART;VALUE=DATE:20230821
DTEND;VALUE=DATE:20230827
DTSTAMP:20260423T131024
CREATED:20230813T024131Z
LAST-MODIFIED:20230813T024804Z
UID:15346-1692576000-1693094399@www.vbcajah.org
SUMMARY:Vacation Bible School (VBS) 2023
DESCRIPTION:The annual Vacation Bible School (VBS) for 2023 with the theme “Twists & Turns: Following Jesus Changes the Game (Psalms 25:4)” will take place from Monday August 21st to Saturday August 26th 2023.
URL:https://www.vbcajah.org/event/vacation-bible-school-vbs-2023/
LOCATION:Kiddie Quest Montessori School\, Thomas Estate\, 7 Esther Ajomale Avenue\, Off Lewis Fadipe Lane\, Ajah\, Lagos\, Nigeria
END:VEVENT
BEGIN:VEVENT
DTSTART;TZID=Africa/Lagos:20220116T180000
DTEND;TZID=Africa/Lagos:20220119T193000
DTSTAMP:20260423T131024
CREATED:20220116T193927Z
LAST-MODIFIED:20220116T193927Z
UID:15224-1642356000-1642620600@www.vbcajah.org
SUMMARY:2022 Annual Bible Study
DESCRIPTION:
URL:https://www.vbcajah.org/event/2022-annual-bible-study/
END:VEVENT
BEGIN:VEVENT
DTSTART;TZID=Africa/Lagos:20200329T090000
DTEND;TZID=Africa/Lagos:20200329T120000
DTSTAMP:20260423T131024
CREATED:20200315T012428Z
LAST-MODIFIED:20200315T012522Z
UID:15129-1585472400-1585483200@www.vbcajah.org
SUMMARY:Miracles\, Signs & Wonders
DESCRIPTION:The Worship Ministry presents a Music Concert tagged Miracles Signs & Wonders. \nDate: Sunday\, March 29\, 2020. \nTime: 9am. \nPlease pray along and come with great expectations.
URL:https://www.vbcajah.org/event/miracles-signs-wonders/
LOCATION:Victory Baptist Church Auditorium\, 5-7 Lewis Street\, Thomas Estate\, Ajah\, Lagos\, Lagos\, Nigeria
END:VEVENT
BEGIN:VEVENT
DTSTART;TZID=Africa/Lagos:20200322T080000
DTEND;TZID=Africa/Lagos:20200322T130000
DTSTAMP:20260423T131024
CREATED:20200315T012000Z
LAST-MODIFIED:20200315T012000Z
UID:15127-1584864000-1584882000@www.vbcajah.org
SUMMARY:Sunday Worship Celebrations (Two Services)
DESCRIPTION:Sunday Worship Celebrations (Two Services) \nFirst Service: 8:00 am – 10:00 am \nSunday School: 10:00 am – 11:00 am \nSecond Service: 11:00 am – 1:00 pm
URL:https://www.vbcajah.org/event/sunday-worship-celebrations-two-services-5/
LOCATION:Victory Baptist Church Auditorium\, 5-7 Lewis Street\, Thomas Estate\, Ajah\, Lagos\, Lagos\, Nigeria
END:VEVENT
BEGIN:VEVENT
DTSTART;TZID=Africa/Lagos:20200308T080000
DTEND;TZID=Africa/Lagos:20200308T130000
DTSTAMP:20260423T131024
CREATED:20200301T225907Z
LAST-MODIFIED:20200301T225907Z
UID:15116-1583654400-1583672400@www.vbcajah.org
SUMMARY:Sunday Worship Celebrations (Two Services)
DESCRIPTION:Sunday Worship Celebrations (Two Services) \nFirst Service: 8:00 am – 10:00 am \nSunday School: 10:00 am – 11:00 am \nSecond Service: 11:00 am – 1:00 pm
URL:https://www.vbcajah.org/event/sunday-worship-celebrations-two-services-4/
LOCATION:Victory Baptist Church Auditorium\, 5-7 Lewis Street\, Thomas Estate\, Ajah\, Lagos\, Lagos\, Nigeria
END:VEVENT
BEGIN:VEVENT
DTSTART;TZID=Africa/Lagos:20200301T080000
DTEND;TZID=Africa/Lagos:20200301T120000
DTSTAMP:20260423T131024
CREATED:20200223T131825Z
LAST-MODIFIED:20200223T131825Z
UID:15107-1583049600-1583064000@www.vbcajah.org
SUMMARY:Mission Emphasis Sunday (Single Service)
DESCRIPTION:Mission Emphasis Sunday (Single Service) \nSunday School: 8:00 am – 9:00 am \nWorship Service: 9:00 am – 12:00 noon
URL:https://www.vbcajah.org/event/mission-emphasis-sunday-single-service/
LOCATION:Victory Baptist Church Auditorium\, 5-7 Lewis Street\, Thomas Estate\, Ajah\, Lagos\, Lagos\, Nigeria
END:VEVENT
BEGIN:VEVENT
DTSTART;TZID=Africa/Lagos:20200228T180000
DTEND;TZID=Africa/Lagos:20200228T210000
DTSTAMP:20260423T131024
CREATED:20200202T234049Z
LAST-MODIFIED:20200202T234049Z
UID:15046-1582912800-1582923600@www.vbcajah.org
SUMMARY:Sundown Prayer Service
DESCRIPTION:Sundown Prayer Service
URL:https://www.vbcajah.org/event/sundown-prayer-service-3/
LOCATION:Victory Baptist Church Auditorium\, 5-7 Lewis Street\, Thomas Estate\, Ajah\, Lagos\, Lagos\, Nigeria
END:VEVENT
BEGIN:VEVENT
DTSTART;TZID=Africa/Lagos:20200223T080000
DTEND;TZID=Africa/Lagos:20200223T120000
DTSTAMP:20260423T131024
CREATED:20200202T233324Z
LAST-MODIFIED:20200202T234239Z
UID:15042-1582444800-1582459200@www.vbcajah.org
SUMMARY:Power Sunday Worship Celebration (Single Service)
DESCRIPTION:Power Sunday Worship Celebration (Single Service) \nSunday School: 8:00 am – 9:00 am \nWorship Service: 9:00 am – 12:00 noon
URL:https://www.vbcajah.org/event/power-sunday-worship-celebration-single-service/
LOCATION:Victory Baptist Church Auditorium\, 5-7 Lewis Street\, Thomas Estate\, Ajah\, Lagos\, Lagos\, Nigeria
END:VEVENT
BEGIN:VEVENT
DTSTART;TZID=Africa/Lagos:20200216T080000
DTEND;TZID=Africa/Lagos:20200216T130000
DTSTAMP:20260423T131024
CREATED:20200202T233021Z
LAST-MODIFIED:20200202T233021Z
UID:15040-1581840000-1581858000@www.vbcajah.org
SUMMARY:Sunday Worship Celebrations (Two Services)
DESCRIPTION:Sunday Worship Celebrations (Two Services) \nFirst Service: 8:00 am – 10:00 am \nSunday School: 10:00 am – 11:00 am \nSecond Service: 11:00 am – 1:00 pm
URL:https://www.vbcajah.org/event/sunday-worship-celebrations-two-services-3/
LOCATION:Victory Baptist Church Auditorium\, 5-7 Lewis Street\, Thomas Estate\, Ajah\, Lagos\, Lagos\, Nigeria
END:VEVENT
END:VCALENDAR